BEGIN:VCALENDAR
VERSION:2.0
PRODID:-//Dawoodi Bohra Welfare Society - ECPv6.15.20//NONSGML v1.0//EN
CALSCALE:GREGORIAN
METHOD:PUBLISH
X-WR-CALNAME:Dawoodi Bohra Welfare Society
X-ORIGINAL-URL:https://dbws.co.uk
X-WR-CALDESC:Events for Dawoodi Bohra Welfare Society
REFRESH-INTERVAL;VALUE=DURATION:PT1H
X-Robots-Tag:noindex
X-PUBLISHED-TTL:PT1H
BEGIN:VTIMEZONE
TZID:Europe/London
BEGIN:DAYLIGHT
TZOFFSETFROM:+0000
TZOFFSETTO:+0100
TZNAME:BST
DTSTART:20240331T010000
END:DAYLIGHT
BEGIN:STANDARD
TZOFFSETFROM:+0100
TZOFFSETTO:+0000
TZNAME:GMT
DTSTART:20241027T010000
END:STANDARD
BEGIN:DAYLIGHT
TZOFFSETFROM:+0000
TZOFFSETTO:+0100
TZNAME:BST
DTSTART:20250330T010000
END:DAYLIGHT
BEGIN:STANDARD
TZOFFSETFROM:+0100
TZOFFSETTO:+0000
TZNAME:GMT
DTSTART:20251026T010000
END:STANDARD
BEGIN:DAYLIGHT
TZOFFSETFROM:+0000
TZOFFSETTO:+0100
TZNAME:BST
DTSTART:20260329T010000
END:DAYLIGHT
BEGIN:STANDARD
TZOFFSETFROM:+0100
TZOFFSETTO:+0000
TZNAME:GMT
DTSTART:20261025T010000
END:STANDARD
END:VTIMEZONE
BEGIN:VEVENT
DTSTART;TZID=Europe/London:20250106T143000
DTEND;TZID=Europe/London:20250106T153000
DTSTAMP:20260421T094658
CREATED:20241101T160424Z
LAST-MODIFIED:20241112T200236Z
UID:10000285-1736173800-1736177400@dbws.co.uk
SUMMARY:Qur'an Class: LADIES ONLY
DESCRIPTION:https://us02web.zoom.us/j/7756765251?pwd=aHh3VW5DRGNBcDdLbEREK2pyaWlrZz09
URL:https://dbws.co.uk/events/quran-class-ladies-only-fizzaben-vanat/2025-01-06/
ATTACH;FMTTYPE=image/jpeg:https://dbws.co.uk/wp-content/uploads/2024/10/Quran-Classes-e1731441015250.jpg
END:VEVENT
BEGIN:VEVENT
DTSTART;VALUE=DATE:20250112
DTEND;VALUE=DATE:20250113
DTSTAMP:20260421T094658
CREATED:20241101T155758Z
LAST-MODIFIED:20241105T191826Z
UID:10000201-1736640000-1736726399@dbws.co.uk
SUMMARY:Salgerah Maulana Ali AS
DESCRIPTION:
URL:https://dbws.co.uk/events/salgerah-maulana-ali-as/
CATEGORIES:Religious
ATTACH;FMTTYPE=image/gif:https://dbws.co.uk/wp-content/uploads/2024/11/Religious-e1731444633790.gif
END:VEVENT
BEGIN:VEVENT
DTSTART;VALUE=DATE:20250112
DTEND;VALUE=DATE:20250115
DTSTAMP:20260421T094658
CREATED:20241101T155758Z
LAST-MODIFIED:20241112T205234Z
UID:10000202-1736640000-1736899199@dbws.co.uk
SUMMARY:Roza - Ayyam-ul-Beez
DESCRIPTION:
URL:https://dbws.co.uk/events/roza-ayyam-ul-beez/
CATEGORIES:Religious
ATTACH;FMTTYPE=image/gif:https://dbws.co.uk/wp-content/uploads/2024/11/Religious-e1731444633790.gif
END:VEVENT
BEGIN:VEVENT
DTSTART;TZID=Europe/London:20250113T143000
DTEND;TZID=Europe/London:20250113T153000
DTSTAMP:20260421T094658
CREATED:20241101T160424Z
LAST-MODIFIED:20241112T200236Z
UID:10000286-1736778600-1736782200@dbws.co.uk
SUMMARY:Qur'an Class: LADIES ONLY
DESCRIPTION:https://us02web.zoom.us/j/7756765251?pwd=aHh3VW5DRGNBcDdLbEREK2pyaWlrZz09
URL:https://dbws.co.uk/events/quran-class-ladies-only-fizzaben-vanat/2025-01-13/
ATTACH;FMTTYPE=image/jpeg:https://dbws.co.uk/wp-content/uploads/2024/10/Quran-Classes-e1731441015250.jpg
END:VEVENT
BEGIN:VEVENT
DTSTART;VALUE=DATE:20250114
DTEND;VALUE=DATE:20250115
DTSTAMP:20260421T094658
CREATED:20241101T155758Z
LAST-MODIFIED:20241112T205326Z
UID:10000203-1736812800-1736899199@dbws.co.uk
SUMMARY:Salat-uz-Zawaal (Additional Zuhr Prayer)
DESCRIPTION:
URL:https://dbws.co.uk/events/salat-uz-zawaal-additional-zuhr-prayer/
CATEGORIES:Religious
ATTACH;FMTTYPE=image/gif:https://dbws.co.uk/wp-content/uploads/2024/11/Religious-e1731444633790.gif
END:VEVENT
BEGIN:VEVENT
DTSTART;TZID=Europe/London:20250118T183000
DTEND;TZID=Europe/London:20250118T220000
DTSTAMP:20260421T094658
CREATED:20241101T155941Z
LAST-MODIFIED:20250106T215854Z
UID:10000268-1737225000-1737237600@dbws.co.uk
SUMMARY:Conscious Movie Night
DESCRIPTION:Watch thought provoking movies and share your thoughts in the debate that follows… \nWALL-E – the futuristic tale of love\, hope\, and a planet buried under consumerism’s waste. In a world overrun by greed and overconsumption\, one little robot shows us that there’s still a chance to reclaim our future. \nFor details click here
URL:https://dbws.co.uk/events/conscious-movie-night-2/
LOCATION:DBWS Fatemi Manzil\, 220 Gooch Street\, Highgate\, Birmingham\, B5 7HY\, United Kingdom
CATEGORIES:Conscious Movie Nights
ATTACH;FMTTYPE=image/jpeg:https://dbws.co.uk/wp-content/uploads/2024/10/Conscious-Movie-Night-e1731444334789.jpeg
GEO:52.466154852942;-1.8924982529785
X-APPLE-STRUCTURED-LOCATION;VALUE=URI;X-ADDRESS=DBWS Fatemi Manzil 220 Gooch Street Highgate Birmingham B5 7HY United Kingdom;X-APPLE-RADIUS=500;X-TITLE=220 Gooch Street:geo:-1.8924982529785,52.466154852942
END:VEVENT
BEGIN:VEVENT
DTSTART;TZID=Europe/London:20250120T143000
DTEND;TZID=Europe/London:20250120T153000
DTSTAMP:20260421T094658
CREATED:20241101T160424Z
LAST-MODIFIED:20241112T200236Z
UID:10000287-1737383400-1737387000@dbws.co.uk
SUMMARY:Qur'an Class: LADIES ONLY
DESCRIPTION:https://us02web.zoom.us/j/7756765251?pwd=aHh3VW5DRGNBcDdLbEREK2pyaWlrZz09
URL:https://dbws.co.uk/events/quran-class-ladies-only-fizzaben-vanat/2025-01-20/
ATTACH;FMTTYPE=image/jpeg:https://dbws.co.uk/wp-content/uploads/2024/10/Quran-Classes-e1731441015250.jpg
END:VEVENT
BEGIN:VEVENT
DTSTART;VALUE=DATE:20250121
DTEND;VALUE=DATE:20250122
DTSTAMP:20260421T094658
CREATED:20241101T155758Z
LAST-MODIFIED:20241112T205350Z
UID:10000204-1737417600-1737503999@dbws.co.uk
SUMMARY:Kheer Puri tradition for Imam Jafer-as-Sadiq
DESCRIPTION:
URL:https://dbws.co.uk/events/kheer-puri-tradition-for-imam-jafer-as-sadiq/
CATEGORIES:Religious
ATTACH;FMTTYPE=image/gif:https://dbws.co.uk/wp-content/uploads/2024/11/Religious-e1731444633790.gif
END:VEVENT
BEGIN:VEVENT
DTSTART;VALUE=DATE:20250125
DTEND;VALUE=DATE:20250126
DTSTAMP:20260421T094658
CREATED:20241101T155758Z
LAST-MODIFIED:20241112T211510Z
UID:10000205-1737763200-1737849599@dbws.co.uk
SUMMARY:MERAJ - The Ascension of the Prophet Muhammad SAW (Washek)
DESCRIPTION:
URL:https://dbws.co.uk/events/meraj-the-ascension-of-the-prophet-muhammad-saw-washek/
ATTACH;FMTTYPE=image/gif:https://dbws.co.uk/wp-content/uploads/2024/11/Religious-e1731444633790.gif
END:VEVENT
BEGIN:VEVENT
DTSTART;VALUE=DATE:20250126
DTEND;VALUE=DATE:20250127
DTSTAMP:20260421T094658
CREATED:20241101T155758Z
LAST-MODIFIED:20241112T211909Z
UID:10000206-1737849600-1737935999@dbws.co.uk
SUMMARY:ROZA - Maoti-us-Sualaat
DESCRIPTION:
URL:https://dbws.co.uk/events/roza-maoti-us-sualaat/
CATEGORIES:Religious
ATTACH;FMTTYPE=image/gif:https://dbws.co.uk/wp-content/uploads/2024/11/Religious-e1731444633790.gif
END:VEVENT
BEGIN:VEVENT
DTSTART;TZID=Europe/London:20250127T143000
DTEND;TZID=Europe/London:20250127T153000
DTSTAMP:20260421T094658
CREATED:20241101T160424Z
LAST-MODIFIED:20241112T200236Z
UID:10000288-1737988200-1737991800@dbws.co.uk
SUMMARY:Qur'an Class: LADIES ONLY
DESCRIPTION:https://us02web.zoom.us/j/7756765251?pwd=aHh3VW5DRGNBcDdLbEREK2pyaWlrZz09
URL:https://dbws.co.uk/events/quran-class-ladies-only-fizzaben-vanat/2025-01-27/
ATTACH;FMTTYPE=image/jpeg:https://dbws.co.uk/wp-content/uploads/2024/10/Quran-Classes-e1731441015250.jpg
END:VEVENT
END:VCALENDAR